BEGIN:VCALENDAR
VERSION:2.0
PRODID:-//Fritz-Reuter-Literaturmuseum - ECPv6.15.20//NONSGML v1.0//EN
CALSCALE:GREGORIAN
METHOD:PUBLISH
X-ORIGINAL-URL:https://frlm-mv.de
X-WR-CALDESC:Veranstaltungen für Fritz-Reuter-Literaturmuseum
REFRESH-INTERVAL;VALUE=DURATION:PT1H
X-Robots-Tag:noindex
X-PUBLISHED-TTL:PT1H
BEGIN:VTIMEZONE
TZID:Europe/Berlin
BEGIN:DAYLIGHT
TZOFFSETFROM:+0100
TZOFFSETTO:+0200
TZNAME:CEST
DTSTART:20250330T010000
END:DAYLIGHT
BEGIN:STANDARD
TZOFFSETFROM:+0200
TZOFFSETTO:+0100
TZNAME:CET
DTSTART:20251026T010000
END:STANDARD
BEGIN:DAYLIGHT
TZOFFSETFROM:+0100
TZOFFSETTO:+0200
TZNAME:CEST
DTSTART:20260329T010000
END:DAYLIGHT
BEGIN:STANDARD
TZOFFSETFROM:+0200
TZOFFSETTO:+0100
TZNAME:CET
DTSTART:20261025T010000
END:STANDARD
BEGIN:DAYLIGHT
TZOFFSETFROM:+0100
TZOFFSETTO:+0200
TZNAME:CEST
DTSTART:20270328T010000
END:DAYLIGHT
BEGIN:STANDARD
TZOFFSETFROM:+0200
TZOFFSETTO:+0100
TZNAME:CET
DTSTART:20271031T010000
END:STANDARD
END:VTIMEZONE
BEGIN:VEVENT
DTSTART;TZID=Europe/Berlin:20260123T190000
DTEND;TZID=Europe/Berlin:20260123T203000
DTSTAMP:20260422T192501
CREATED:20251022T133825Z
LAST-MODIFIED:20251023T074452Z
UID:8312-1769194800-1769200200@frlm-mv.de
SUMMARY:Geschichten aus der Geschichte
DESCRIPTION:Lesung mit Lutz Dettmann im Schloss Stavenhagen \nWussten Sie\, dass auf den mecklenburgischen Landtagen nicht nur politisiert\, sondern auch Degen oder Pistolen gezogen wurden? Ist Ihnen bekannt\, dass mecklenburgische Dorfschullehrer nicht als Einjährigfreiwilliger im deutschen Heer dienen durften? Können Sie sich vorstellen\, dass ein Erbherzog an ein Tischbein gefesselt seine Suppe auslöffeln musste? Oder wissen Sie\, warum die Aussprache des Wortes Mecklenburg den Fremden oder den Mecklenburger verrät? \nWenn nicht\, Lutz Dettmann wird Ihnen diese Frage beantworten. Und nicht nur das. Er nimmt Sie mit auf eine Reise durch die Geschichte Mecklenburgs in Geschichten\, stellt Ihnen mehr oder weniger bekannte Ereignisse und Persönlichkeiten aus Mecklenburg vor. \nLutz Dettmann stammt aus Mecklenburg-Vorpommern und lebte bis 1997 in Schwerin\, heute wohnt er in Rugensee. Er ist Mitglied des Vorstandes der Hans-Fallada-Gesellschaft und seit 2010 im Vorstand des „Fördervereins Alter Friedhof Schwerin e.V.“ und fungiert als Chefredakteur für die Schriftenreihe „Orte der Erinnerungen“. \nBekannt wurde Dettmann durch seinen ersten Roman „Wer die Beatles nicht kennt“\, der die Jugendjahre und das Erwachsenwerden der männlichen Hauptfigur in der DDR der 1970er Jahre schildert. 2021 erschien „Wie aus Meklenburg Mecklenburg wurde – Geschichten und Personen“. Das Buch enthält Texte zur mecklenburgischen Geschichte und Porträts\, die in verschiedenen Zeitungen und Zeitschriften erschienen sind. 2025 erschien die Fortsetzung „Geschichten aus der Geschichte“. \nDie Lesung findet am 23. Januar 2026 um 19.00 Uhr im Schloss Stavenhagen statt. Eintritt: 10 Euro. \nUm Voranmeldung wird gebeten (Telefon 039954 21072 oder E-Mail an literaturmuseum@stavenhagen.de). \nÄnderungen und Irrtümer vorbehalten!
URL:https://frlm-mv.de/event/geschichten-aus-der-geschichte/
LOCATION:Schloss Stavenhagen\, Schloss 1\, Stavenhagen\, 17153\, Deutschland
CATEGORIES:Lesung,Literatur,Wissenschaft & Bildung
ATTACH;FMTTYPE=image/jpeg:https://frlm-mv.de/wp-content/uploads/2025/10/Lesung-Dettmann-1.jpg
ORGANIZER;CN="Fritz-Reuter-Literaturmuseum Stavenhagen":MAILTO:info@frlm-mv.de
END:VEVENT
BEGIN:VEVENT
DTSTART;TZID=Europe/Berlin:20260127T180000
DTEND;TZID=Europe/Berlin:20260127T203000
DTSTAMP:20260422T192501
CREATED:20260122T070038Z
LAST-MODIFIED:20260122T070038Z
UID:8794-1769536800-1769545800@frlm-mv.de
SUMMARY:Das Manifest der Flucht
DESCRIPTION:Lesung mit Thilo Rau und Podiumsdiskussion mit Lorenz Caffier.
URL:https://frlm-mv.de/event/das-manifest-der-flucht/
LOCATION:Alte Synagoge Stavenhagen\, Malchiner Straße 34\, Stavenhagen\, 17153\, Deutschland
CATEGORIES:Lesung,Literatur,Symposium,Vortrag & Diskussion,Wissenschaft & Bildung
ATTACH;FMTTYPE=image/jpeg:https://frlm-mv.de/wp-content/uploads/2026/01/9.jpg
ORGANIZER;CN="Verein Alte Synagoge Stavenhagen e. V.":MAILTO:info@synagoge-stavenhagen.de
END:VEVENT
END:VCALENDAR