BEGIN:VCALENDAR
VERSION:2.0
PRODID:-//Fritz-Reuter-Literaturmuseum - ECPv6.15.20//NONSGML v1.0//EN
CALSCALE:GREGORIAN
METHOD:PUBLISH
X-WR-CALNAME:Fritz-Reuter-Literaturmuseum
X-ORIGINAL-URL:https://frlm-mv.de
X-WR-CALDESC:Veranstaltungen für Fritz-Reuter-Literaturmuseum
REFRESH-INTERVAL;VALUE=DURATION:PT1H
X-Robots-Tag:noindex
X-PUBLISHED-TTL:PT1H
BEGIN:VTIMEZONE
TZID:Europe/Berlin
BEGIN:DAYLIGHT
TZOFFSETFROM:+0100
TZOFFSETTO:+0200
TZNAME:CEST
DTSTART:20230326T010000
END:DAYLIGHT
BEGIN:STANDARD
TZOFFSETFROM:+0200
TZOFFSETTO:+0100
TZNAME:CET
DTSTART:20231029T010000
END:STANDARD
BEGIN:DAYLIGHT
TZOFFSETFROM:+0100
TZOFFSETTO:+0200
TZNAME:CEST
DTSTART:20240331T010000
END:DAYLIGHT
BEGIN:STANDARD
TZOFFSETFROM:+0200
TZOFFSETTO:+0100
TZNAME:CET
DTSTART:20241027T010000
END:STANDARD
BEGIN:DAYLIGHT
TZOFFSETFROM:+0100
TZOFFSETTO:+0200
TZNAME:CEST
DTSTART:20250330T010000
END:DAYLIGHT
BEGIN:STANDARD
TZOFFSETFROM:+0200
TZOFFSETTO:+0100
TZNAME:CET
DTSTART:20251026T010000
END:STANDARD
END:VTIMEZONE
BEGIN:VEVENT
DTSTART;TZID=Europe/Berlin:20240419T190000
DTEND;TZID=Europe/Berlin:20240419T203000
DTSTAMP:20260421T120534
CREATED:20240214T075014Z
LAST-MODIFIED:20240219T091830Z
UID:3237-1713553200-1713558600@frlm-mv.de
SUMMARY:Peter Bause - "Man stirbt doch nicht im dritten Akt!"
DESCRIPTION:»Man stirbt doch nicht im dritten Akt!«\, sagt Vollblutschauspieler Peter Bause und lässt in seiner Autobiografie sechzig spannende Berufs- und achtzig bewegte Lebensjahre Revue passieren. Der Erzkomödiant und Charakterdarsteller schüttet schwungvoll einen ganzen Sack voller Theaterschnurren aus\, in denen Kollegen wie Dietrich Körner\, Klaus Piontek\, Ekkehard Schall\, Rolf Ludwig ihre Auftritte haben. \nMit viel Humor und klugem Understatement erzählt Peter Bause über sein Schauspielerleben und nimmt seine Zuhörer mit auf die Bretter\, die die Welt bedeuten. \nDie Veranstaltung wird gefördert vom Ministerium für Wissenschaft\, Kultur Bundes- und Europaangelegenheiten des Landes Mecklenburg-Vorpommern. \n \n 
URL:https://frlm-mv.de/event/peter-bause-man-stirbt-doch-nicht-im-dritten-akt/
LOCATION:Schloss Stavenhagen\, Schloss 1\, Stavenhagen\, 17153\, Deutschland
CATEGORIES:Lesung,Literatur,Theater & Bühne
ATTACH;FMTTYPE=image/jpeg:https://frlm-mv.de/wp-content/uploads/2024/02/Peter-Bause.jpg
ORGANIZER;CN="Fritz-Reuter-Literaturmuseum Stavenhagen":MAILTO:info@frlm-mv.de
END:VEVENT
END:VCALENDAR