BEGIN:VCALENDAR
VERSION:2.0
PRODID:-//Fritz-Reuter-Literaturmuseum - ECPv6.15.20//NONSGML v1.0//EN
CALSCALE:GREGORIAN
METHOD:PUBLISH
X-ORIGINAL-URL:https://frlm-mv.de
X-WR-CALDESC:Veranstaltungen für Fritz-Reuter-Literaturmuseum
REFRESH-INTERVAL;VALUE=DURATION:PT1H
X-Robots-Tag:noindex
X-PUBLISHED-TTL:PT1H
BEGIN:VTIMEZONE
TZID:Europe/Berlin
BEGIN:DAYLIGHT
TZOFFSETFROM:+0100
TZOFFSETTO:+0200
TZNAME:CEST
DTSTART:20230326T010000
END:DAYLIGHT
BEGIN:STANDARD
TZOFFSETFROM:+0200
TZOFFSETTO:+0100
TZNAME:CET
DTSTART:20231029T010000
END:STANDARD
BEGIN:DAYLIGHT
TZOFFSETFROM:+0100
TZOFFSETTO:+0200
TZNAME:CEST
DTSTART:20240331T010000
END:DAYLIGHT
BEGIN:STANDARD
TZOFFSETFROM:+0200
TZOFFSETTO:+0100
TZNAME:CET
DTSTART:20241027T010000
END:STANDARD
BEGIN:DAYLIGHT
TZOFFSETFROM:+0100
TZOFFSETTO:+0200
TZNAME:CEST
DTSTART:20250330T010000
END:DAYLIGHT
BEGIN:STANDARD
TZOFFSETFROM:+0200
TZOFFSETTO:+0100
TZNAME:CET
DTSTART:20251026T010000
END:STANDARD
END:VTIMEZONE
BEGIN:VEVENT
DTSTART;TZID=Europe/Berlin:20240223T190000
DTEND;TZID=Europe/Berlin:20240223T213000
DTSTAMP:20260421T152010
CREATED:20240110T141931Z
LAST-MODIFIED:20240117T111145Z
UID:2066-1708714800-1708723800@frlm-mv.de
SUMMARY:3. REUTERPOKAL DER JUGEND
DESCRIPTION:Musikalisch-Literarisches Soloprogramm von und mit Sebastian Krumbiegel\, dem Frontmann der Popgruppe »Die Prinzen«. Eintritt 30 Euro\, um Voranmeldung wird gebeten (Telefon 039954 21072 oder E-Mail an literaturmuseum@stavenhagen.de).
URL:https://frlm-mv.de/event/sebastian-krumbiegel-live/
LOCATION:Schloss Stavenhagen\, Schloss 1\, Stavenhagen\, 17153\, Deutschland
CATEGORIES:Theater & Bühne
ATTACH;FMTTYPE=image/jpeg:https://frlm-mv.de/wp-content/uploads/2024/01/SV-Blau-Weiss.jpg
ORGANIZER;CN="Fritz-Reuter-Literaturmuseum Stavenhagen":MAILTO:info@frlm-mv.de
END:VEVENT
END:VCALENDAR