BEGIN:VCALENDAR
VERSION:2.0
PRODID:-//Fritz-Reuter-Literaturmuseum - ECPv6.15.20//NONSGML v1.0//EN
CALSCALE:GREGORIAN
METHOD:PUBLISH
X-ORIGINAL-URL:https://frlm-mv.de
X-WR-CALDESC:Veranstaltungen für Fritz-Reuter-Literaturmuseum
REFRESH-INTERVAL;VALUE=DURATION:PT1H
X-Robots-Tag:noindex
X-PUBLISHED-TTL:PT1H
BEGIN:VTIMEZONE
TZID:Europe/Berlin
BEGIN:DAYLIGHT
TZOFFSETFROM:+0100
TZOFFSETTO:+0200
TZNAME:CEST
DTSTART:20230326T010000
END:DAYLIGHT
BEGIN:STANDARD
TZOFFSETFROM:+0200
TZOFFSETTO:+0100
TZNAME:CET
DTSTART:20231029T010000
END:STANDARD
BEGIN:DAYLIGHT
TZOFFSETFROM:+0100
TZOFFSETTO:+0200
TZNAME:CEST
DTSTART:20240331T010000
END:DAYLIGHT
BEGIN:STANDARD
TZOFFSETFROM:+0200
TZOFFSETTO:+0100
TZNAME:CET
DTSTART:20241027T010000
END:STANDARD
BEGIN:DAYLIGHT
TZOFFSETFROM:+0100
TZOFFSETTO:+0200
TZNAME:CEST
DTSTART:20250330T010000
END:DAYLIGHT
BEGIN:STANDARD
TZOFFSETFROM:+0200
TZOFFSETTO:+0100
TZNAME:CET
DTSTART:20251026T010000
END:STANDARD
END:VTIMEZONE
BEGIN:VEVENT
DTSTART;TZID=Europe/Berlin:20241026T140000
DTEND;TZID=Europe/Berlin:20241026T220000
DTSTAMP:20260424T202035
CREATED:20240206T071403Z
LAST-MODIFIED:20240905T105728Z
UID:3048-1729951200-1729980000@frlm-mv.de
SUMMARY:VON LICHT ZU LICHT – KULTUR- & LICHTERNACHT
DESCRIPTION:In Licht getauchte Gebäude\, eine verzauberte Atmosphäre und ganz viel Kultur – Stavenhagen zieht von Licht zu Licht und feiert seine erste Kultur- & Lichternacht. Die Kultur- und Lichternacht verbindet wichtige Orte der Reuterstadt. Sie nimmt den Geist der Festwoche 2024 auf und lässt markante Orte in neuem Licht erstrahlen. Die Stadtkirche erscheint in neuem sakralem Glanz\, das Literaturmuseum präsentiert sich lichtüberflutet\, das Schloss zeigt sich farbenfroh und die alte Synagoge erstrahlt. Dazu begleitet ein Posaunenchor das staunende Publikum von Licht zu Licht. Boulevard und Schlossberg zeigen sich feurig und auf dem Marktplatz nehmen Feuerjongleure die Thematik auf. Bereits ab 14.00 Uhr zeigen Straßenkünstler ihr Können. \nProgramm \nab 14.00 Uhr Straßenkunst der Rostocker Straßenkultur Markt und Innenstadt \nab 14.00 Uhr präsentieren sich die Innenstadthändler auf dem Boulevard\, Feuerschalen und Licht sorgen für ein kurzweiliges Einkaufserlebnis \n14.00 Uhr & 14.30 Uhr 160 Jahre Turmuhr. Führungen zur Tumuhr des Fritz-Reuter-Literaturmuseums. \n15.00 Uhr Ausstellungseröffnung „Symbiose.“ Malerei\, Graphik und Objekte von Nora Gauger in der Alten Synagoge \n15.30 Uhr Konzert Fritz-Reuter-Chor Stavenhagen in der Stadtkirche \n17.00 Uhr Benefizkonzert mit Paula Kokel\, Saxophon & Tim Preußker\, Orgel\, mit Werken von Rheinberger\, Schostakowitsch und Jazz-Standards in der Stadtkirche \n18. 15 Uhr Lesung ‚Reuter und die Juden‘ in der Alten Synagoge \n19.00 Uhr Blink un Blank – Plattdüütsch‘ Geschichten un Gesang mit Susanne Bliemel & Thomas Naedler \n20.45 Uhr Feuerjonglage auf dem Markt mit der Rethra Feuercrew aus Neubrandenburg \n21.15 Uhr Der Mond ist aufgegangen – gemeinsames Singen von Abendliedern in der Stadtkirche \nFür die Beleuchtung sorgt papyros kreative Feuerwerke. Wir kennen Sie von der überwältigenden Feuerwerk- und Lichtershow am 12. Juli 24 in der Reuterstadt. \nEs wird wunderschön! \n 
URL:https://frlm-mv.de/event/1-kultur-lichternacht/
LOCATION:Marktplatz Stavenhagen\, Markt 1\, Stavenhagen\, 17153\, Deutschland
CATEGORIES:Ausstellung,Feuerwerk,Konzert,Lesung,Literatur,Niederdeutscher Abend - Allens up Platt,Volksfest,Vortrag & Diskussion
ATTACH;FMTTYPE=image/jpeg:https://frlm-mv.de/wp-content/uploads/2024/02/Lichternacht.jpg
ORGANIZER;CN="Fritz-Reuter-Literaturmuseum Stavenhagen":MAILTO:info@frlm-mv.de
END:VEVENT
BEGIN:VEVENT
DTSTART;TZID=Europe/Berlin:20241026T190000
DTEND;TZID=Europe/Berlin:20241026T203000
DTSTAMP:20260424T202035
CREATED:20240221T071239Z
LAST-MODIFIED:20240228T141211Z
UID:3355-1729969200-1729974600@frlm-mv.de
SUMMARY:BLINK UN BLANK – Plattdüütsch’ Geschichten un Gesang
DESCRIPTION:In Kommün:\nSusanne Bliemel & Thomas Naedler \nWas viele nicht wissen: Es gab in der DDR ein Überangebot an Bananen. Und die Zuständigkeit des Weihnachtsmannes hat eine Halbwertzeit. Die Sängerin Nico hatte in den 60ern in New York die Texte zu ihren später großen Hits auf Plattdeutsch geschrieben\, konnte sich dann aber gegen Andy Warhol und die Velvet Underground nicht durchsetzen. Und „Blink un Blank“ bezeichnet Zweierlei\, das gut zusammen passt\, wenn es in einen Topf geworfen\, oder\, um das Bild nicht völlig schief in den Rahmen zu tackern: auf eine Bühne gestellt wird. \nSusanne Bliemel und Thomas Naedler sind „Blink un Blank“. Mit ihrem gemeinsamen Programm\, wollen sie nur eins: Geschichten erzählen. Susanne Bliemel hat die ihren aufgeschrieben und zwischen Buchdeckeln sicher verwahrt\, Thomas Naedler hat seine gereimt auf ein paar Gitarren-Akkorde gesetzt. Erzählt\, gelesen und gesungen wird auf Platt. \n  \n \n  \n \n  \n 
URL:https://frlm-mv.de/event/blink-un-blank-plattdueuetsch-geschichten-un-gesang/
LOCATION:Schloss Stavenhagen\, Schloss 1\, Stavenhagen\, 17153\, Deutschland
CATEGORIES:Konzert,Lesung,Literatur,Niederdeutscher Abend - Allens up Platt
ATTACH;FMTTYPE=image/jpeg:https://frlm-mv.de/wp-content/uploads/2024/02/Lichternacht-01.jpg
ORGANIZER;CN="Fritz-Reuter-Literaturmuseum Stavenhagen":MAILTO:info@frlm-mv.de
END:VEVENT
END:VCALENDAR