BEGIN:VCALENDAR
VERSION:2.0
PRODID:-//Fritz-Reuter-Literaturmuseum - ECPv6.15.20//NONSGML v1.0//EN
CALSCALE:GREGORIAN
METHOD:PUBLISH
X-WR-CALNAME:Fritz-Reuter-Literaturmuseum
X-ORIGINAL-URL:https://frlm-mv.de
X-WR-CALDESC:Veranstaltungen für Fritz-Reuter-Literaturmuseum
REFRESH-INTERVAL;VALUE=DURATION:PT1H
X-Robots-Tag:noindex
X-PUBLISHED-TTL:PT1H
BEGIN:VTIMEZONE
TZID:Europe/Berlin
BEGIN:DAYLIGHT
TZOFFSETFROM:+0100
TZOFFSETTO:+0200
TZNAME:CEST
DTSTART:20230326T010000
END:DAYLIGHT
BEGIN:STANDARD
TZOFFSETFROM:+0200
TZOFFSETTO:+0100
TZNAME:CET
DTSTART:20231029T010000
END:STANDARD
BEGIN:DAYLIGHT
TZOFFSETFROM:+0100
TZOFFSETTO:+0200
TZNAME:CEST
DTSTART:20240331T010000
END:DAYLIGHT
BEGIN:STANDARD
TZOFFSETFROM:+0200
TZOFFSETTO:+0100
TZNAME:CET
DTSTART:20241027T010000
END:STANDARD
BEGIN:DAYLIGHT
TZOFFSETFROM:+0100
TZOFFSETTO:+0200
TZNAME:CEST
DTSTART:20250330T010000
END:DAYLIGHT
BEGIN:STANDARD
TZOFFSETFROM:+0200
TZOFFSETTO:+0100
TZNAME:CET
DTSTART:20251026T010000
END:STANDARD
END:VTIMEZONE
BEGIN:VEVENT
DTSTART;TZID=Europe/Berlin:20240911T180000
DTEND;TZID=Europe/Berlin:20240911T193000
DTSTAMP:20260424T221417
CREATED:20240206T131519Z
LAST-MODIFIED:20240219T085920Z
UID:3059-1726077600-1726083000@frlm-mv.de
SUMMARY:ES WIRD WUNDERSCHÖN – ABEND DER UNVERLEGTEN POESIE
DESCRIPTION:Die Liebe zum Niederdeutschen\, zur Sprache und zur Literatur\, liegt in der DNA des Fritz-Reuter-Literaturmuseums. Und so wollen wir mit diesem Abend der unverlegten Poesie ergründen\, was in den Schubladen von Autorinnen und Autoren liegt und noch nicht das Licht der Öffentlichkeit erblickt hat. Die Veranstaltung verspricht\, Spannung\, beste Unterhaltung und einen schönen Abend im Kreise eines interessierten Publikums. \nIn Kooperation mit dem Bund der niederdeutschen Autoren lesen dessen Mitglieder aus unveröffentlichten Werken. Der Ansatz folgt dem Format einer Lesebühne. Es ist ausdrücklich erwünscht sich mit den Autoren auseinanderzusetzen und untereinander zu diskutieren. \nDie Veranstaltung wird gefördert von der Arbeitsgemeinschaft Literarischer Gesellschaften und Gedenkstätten (ALG). \n \n 
URL:https://frlm-mv.de/event/es-wird-wunderschoen-abend-der-unverlegten-poesie-3/
LOCATION:Fritz-Reuter-Literaturmuseum Stavenhagen\, Markt 1\, 17153 Stavenhagen\, Mecklenburg-Vorpommern\, Deutschland
CATEGORIES:Lesung,Literatur,Niederdeutscher Abend - Allens up Platt
ATTACH;FMTTYPE=image/jpeg:https://frlm-mv.de/wp-content/uploads/2024/02/BNA-01.jpg
ORGANIZER;CN="Fritz-Reuter-Literaturmuseum Stavenhagen":MAILTO:info@frlm-mv.de
END:VEVENT
END:VCALENDAR