BEGIN:VCALENDAR
VERSION:2.0
PRODID:-//Fritz-Reuter-Literaturmuseum - ECPv6.15.20//NONSGML v1.0//EN
CALSCALE:GREGORIAN
METHOD:PUBLISH
X-ORIGINAL-URL:https://frlm-mv.de
X-WR-CALDESC:Veranstaltungen für Fritz-Reuter-Literaturmuseum
REFRESH-INTERVAL;VALUE=DURATION:PT1H
X-Robots-Tag:noindex
X-PUBLISHED-TTL:PT1H
BEGIN:VTIMEZONE
TZID:Europe/Berlin
BEGIN:DAYLIGHT
TZOFFSETFROM:+0100
TZOFFSETTO:+0200
TZNAME:CEST
DTSTART:20240331T010000
END:DAYLIGHT
BEGIN:STANDARD
TZOFFSETFROM:+0200
TZOFFSETTO:+0100
TZNAME:CET
DTSTART:20241027T010000
END:STANDARD
BEGIN:DAYLIGHT
TZOFFSETFROM:+0100
TZOFFSETTO:+0200
TZNAME:CEST
DTSTART:20250330T010000
END:DAYLIGHT
BEGIN:STANDARD
TZOFFSETFROM:+0200
TZOFFSETTO:+0100
TZNAME:CET
DTSTART:20251026T010000
END:STANDARD
BEGIN:DAYLIGHT
TZOFFSETFROM:+0100
TZOFFSETTO:+0200
TZNAME:CEST
DTSTART:20260329T010000
END:DAYLIGHT
BEGIN:STANDARD
TZOFFSETFROM:+0200
TZOFFSETTO:+0100
TZNAME:CET
DTSTART:20261025T010000
END:STANDARD
END:VTIMEZONE
BEGIN:VEVENT
DTSTART;TZID=Europe/Berlin:20250121T190000
DTEND;TZID=Europe/Berlin:20250121T210000
DTSTAMP:20260420T091727
CREATED:20241119T083700Z
LAST-MODIFIED:20241206T101836Z
UID:5763-1737486000-1737493200@frlm-mv.de
SUMMARY:Konzertante Lesung
DESCRIPTION:Werken von\nV. Ullmann\, M. Ravel\, F. Mendelsohn-Bartholdy\, G. Mahler\, M. Gebirtig\nTexte: Briefkorrespondenz Paul Celan und Ilana Shmueli\nIlana Shmueli und Paul Celan\nSag\, dass Jerusalem ist\nmit:\nDr. Roman Salyutov\, Klavier\nAgnes Grube\, Oboe\nHanno Dinger\, Schauspieler\nBritta Shulamit Jakobi\, Schauspielerin
URL:https://frlm-mv.de/event/konzertante-lesung/
LOCATION:Alte Synagoge Stavenhagen\, Malchiner Straße 34\, Stavenhagen\, 17153\, Deutschland
CATEGORIES:Klassik,Konzert
ATTACH;FMTTYPE=image/jpeg:https://frlm-mv.de/wp-content/uploads/2024/11/Konzertante-Lesung.jpg
ORGANIZER;CN="Verein Alte Synagoge Stavenhagen e. V.":MAILTO:info@synagoge-stavenhagen.de
END:VEVENT
BEGIN:VEVENT
DTSTART;TZID=Europe/Berlin:20250127T190000
DTEND;TZID=Europe/Berlin:20250127T210000
DTSTAMP:20260420T091727
CREATED:20241119T083934Z
LAST-MODIFIED:20241206T102023Z
UID:5768-1738004400-1738011600@frlm-mv.de
SUMMARY:Zum Internationalen Tag des Gedenkens an die Opfer des Holocaust - Konzert
DESCRIPTION:Duo all’ungherese\nAnita Vitkózy-Farkas – Querflöte\,\nBence Hartl – Gitarre
URL:https://frlm-mv.de/event/zum-internationalen-tag-des-gedenkens-an-die-opfer-des-holocaust-konzert/
LOCATION:Alte Synagoge Stavenhagen\, Malchiner Straße 34\, Stavenhagen\, 17153\, Deutschland
CATEGORIES:Klassik,Konzert,Kunst
ATTACH;FMTTYPE=image/jpeg:https://frlm-mv.de/wp-content/uploads/2024/11/Holokaust-Konzert.jpg
ORGANIZER;CN="Verein Alte Synagoge Stavenhagen e. V.":MAILTO:info@synagoge-stavenhagen.de
END:VEVENT
END:VCALENDAR