BEGIN:VCALENDAR
VERSION:2.0
PRODID:-//Fritz-Reuter-Literaturmuseum - ECPv6.15.20//NONSGML v1.0//EN
CALSCALE:GREGORIAN
METHOD:PUBLISH
X-WR-CALNAME:Fritz-Reuter-Literaturmuseum
X-ORIGINAL-URL:https://frlm-mv.de
X-WR-CALDESC:Veranstaltungen für Fritz-Reuter-Literaturmuseum
REFRESH-INTERVAL;VALUE=DURATION:PT1H
X-Robots-Tag:noindex
X-PUBLISHED-TTL:PT1H
BEGIN:VTIMEZONE
TZID:Europe/Berlin
BEGIN:DAYLIGHT
TZOFFSETFROM:+0100
TZOFFSETTO:+0200
TZNAME:CEST
DTSTART:20230326T010000
END:DAYLIGHT
BEGIN:STANDARD
TZOFFSETFROM:+0200
TZOFFSETTO:+0100
TZNAME:CET
DTSTART:20231029T010000
END:STANDARD
BEGIN:DAYLIGHT
TZOFFSETFROM:+0100
TZOFFSETTO:+0200
TZNAME:CEST
DTSTART:20240331T010000
END:DAYLIGHT
BEGIN:STANDARD
TZOFFSETFROM:+0200
TZOFFSETTO:+0100
TZNAME:CET
DTSTART:20241027T010000
END:STANDARD
BEGIN:DAYLIGHT
TZOFFSETFROM:+0100
TZOFFSETTO:+0200
TZNAME:CEST
DTSTART:20250330T010000
END:DAYLIGHT
BEGIN:STANDARD
TZOFFSETFROM:+0200
TZOFFSETTO:+0100
TZNAME:CET
DTSTART:20251026T010000
END:STANDARD
END:VTIMEZONE
BEGIN:VEVENT
DTSTART;TZID=Europe/Berlin:20240710T180000
DTEND;TZID=Europe/Berlin:20240710T200000
DTSTAMP:20260422T190223
CREATED:20240206T140342Z
LAST-MODIFIED:20240206T140342Z
UID:3075-1720634400-1720641600@frlm-mv.de
SUMMARY:RUNDGANG & KONZERT
DESCRIPTION:Rundgang zu den in Stavenhagen verlegten Stolpersteinen. Anschließend Konzert in der Alten Synagoge mit Emilia Lomakova (Violincello) und Noga-Sarai Bruckstein (Violine).
URL:https://frlm-mv.de/event/rundgang-konzert/
LOCATION:Alte Synagoge Stavenhagen\, Malchiner Straße 34\, Stavenhagen\, 17153\, Deutschland
CATEGORIES:Klassik,Konzert
ATTACH;FMTTYPE=image/jpeg:https://frlm-mv.de/wp-content/uploads/2024/02/Lomakowa.jpg
ORGANIZER;CN="Verein Alte Synagoge Stavenhagen e. V.":MAILTO:info@synagoge-stavenhagen.de
END:VEVENT
END:VCALENDAR