BEGIN:VCALENDAR
VERSION:2.0
PRODID:-//Fritz-Reuter-Literaturmuseum - ECPv6.15.20//NONSGML v1.0//EN
CALSCALE:GREGORIAN
METHOD:PUBLISH
X-WR-CALNAME:Fritz-Reuter-Literaturmuseum
X-ORIGINAL-URL:https://frlm-mv.de
X-WR-CALDESC:Veranstaltungen für Fritz-Reuter-Literaturmuseum
REFRESH-INTERVAL;VALUE=DURATION:PT1H
X-Robots-Tag:noindex
X-PUBLISHED-TTL:PT1H
BEGIN:VTIMEZONE
TZID:Europe/Berlin
BEGIN:DAYLIGHT
TZOFFSETFROM:+0100
TZOFFSETTO:+0200
TZNAME:CEST
DTSTART:20230326T010000
END:DAYLIGHT
BEGIN:STANDARD
TZOFFSETFROM:+0200
TZOFFSETTO:+0100
TZNAME:CET
DTSTART:20231029T010000
END:STANDARD
BEGIN:DAYLIGHT
TZOFFSETFROM:+0100
TZOFFSETTO:+0200
TZNAME:CEST
DTSTART:20240331T010000
END:DAYLIGHT
BEGIN:STANDARD
TZOFFSETFROM:+0200
TZOFFSETTO:+0100
TZNAME:CET
DTSTART:20241027T010000
END:STANDARD
BEGIN:DAYLIGHT
TZOFFSETFROM:+0100
TZOFFSETTO:+0200
TZNAME:CEST
DTSTART:20250330T010000
END:DAYLIGHT
BEGIN:STANDARD
TZOFFSETFROM:+0200
TZOFFSETTO:+0100
TZNAME:CET
DTSTART:20251026T010000
END:STANDARD
END:VTIMEZONE
BEGIN:VEVENT
DTSTART;TZID=Europe/Berlin:20240507T190000
DTEND;TZID=Europe/Berlin:20240507T200000
DTSTAMP:20260422T220055
CREATED:20240206T135041Z
LAST-MODIFIED:20240206T135142Z
UID:3065-1715108400-1715112000@frlm-mv.de
SUMMARY:KONZERT ENSEMBLE "MALCHINI"
DESCRIPTION:Klassisches Konzert mit dem Ensemble „MALCHINI“ der Kulturschule Malchin.
URL:https://frlm-mv.de/event/konzert-ensemble-malchini/
LOCATION:Alte Synagoge Stavenhagen\, Malchiner Straße 34\, Stavenhagen\, 17153\, Deutschland
CATEGORIES:Klassik,Konzert
ATTACH;FMTTYPE=image/jpeg:https://frlm-mv.de/wp-content/uploads/2024/02/Malchini.jpg
ORGANIZER;CN="Verein Alte Synagoge Stavenhagen e. V.":MAILTO:info@synagoge-stavenhagen.de
END:VEVENT
BEGIN:VEVENT
DTSTART;TZID=Europe/Berlin:20240511T160000
DTEND;TZID=Europe/Berlin:20240511T173000
DTSTAMP:20260422T220055
CREATED:20240214T152044Z
LAST-MODIFIED:20240420T083845Z
UID:3305-1715443200-1715448600@frlm-mv.de
SUMMARY:FRÜHLINGSKONZERT
DESCRIPTION:Traditionelles Frühlingskonzert des Fritz-Reuter-Chores in der Katholischen Kirche St. Paulus in Stavenhagen.
URL:https://frlm-mv.de/event/fruehlingskonzert/
LOCATION:Katholische Kirche St. Paulus Stavenhagen\, Niels-Stensen-Straße 18\, Stavenhagen\, 17153\, Deutschland
CATEGORIES:Klassik,Konzert
ATTACH;FMTTYPE=image/jpeg:https://frlm-mv.de/wp-content/uploads/2024/02/Reuterchor-1.jpg
ORGANIZER;CN="Katholische Kirchengemeinde St. Paulus Stavenhagen":MAILTO:kath.kirche-stavenhagen@t-online.de
END:VEVENT
BEGIN:VEVENT
DTSTART;TZID=Europe/Berlin:20240523T180000
DTEND;TZID=Europe/Berlin:20240523T190000
DTSTAMP:20260422T220055
CREATED:20240206T135611Z
LAST-MODIFIED:20240206T135611Z
UID:3070-1716487200-1716490800@frlm-mv.de
SUMMARY:KONZERT MIT DEM GROSSEN GITARRENENSEMBLE MALCHIN
DESCRIPTION:Konzert mit dem Großen Gitarrenensemble der Kulturschule Malchin.
URL:https://frlm-mv.de/event/konzert-mit-dem-grossen-gitarrenensemble-malchin/
LOCATION:Alte Synagoge Stavenhagen\, Malchiner Straße 34\, Stavenhagen\, 17153\, Deutschland
CATEGORIES:Klassik,Konzert
ATTACH;FMTTYPE=image/jpeg:https://frlm-mv.de/wp-content/uploads/2024/02/Gitarrenensemble.jpg
ORGANIZER;CN="Verein Alte Synagoge Stavenhagen e. V.":MAILTO:info@synagoge-stavenhagen.de
END:VEVENT
END:VCALENDAR