BEGIN:VCALENDAR
VERSION:2.0
PRODID:-//Fritz-Reuter-Literaturmuseum - ECPv6.15.20//NONSGML v1.0//EN
CALSCALE:GREGORIAN
METHOD:PUBLISH
X-WR-CALNAME:Fritz-Reuter-Literaturmuseum
X-ORIGINAL-URL:https://frlm-mv.de
X-WR-CALDESC:Veranstaltungen für Fritz-Reuter-Literaturmuseum
REFRESH-INTERVAL;VALUE=DURATION:PT1H
X-Robots-Tag:noindex
X-PUBLISHED-TTL:PT1H
BEGIN:VTIMEZONE
TZID:Europe/Berlin
BEGIN:DAYLIGHT
TZOFFSETFROM:+0100
TZOFFSETTO:+0200
TZNAME:CEST
DTSTART:20230326T010000
END:DAYLIGHT
BEGIN:STANDARD
TZOFFSETFROM:+0200
TZOFFSETTO:+0100
TZNAME:CET
DTSTART:20231029T010000
END:STANDARD
BEGIN:DAYLIGHT
TZOFFSETFROM:+0100
TZOFFSETTO:+0200
TZNAME:CEST
DTSTART:20240331T010000
END:DAYLIGHT
BEGIN:STANDARD
TZOFFSETFROM:+0200
TZOFFSETTO:+0100
TZNAME:CET
DTSTART:20241027T010000
END:STANDARD
BEGIN:DAYLIGHT
TZOFFSETFROM:+0100
TZOFFSETTO:+0200
TZNAME:CEST
DTSTART:20250330T010000
END:DAYLIGHT
BEGIN:STANDARD
TZOFFSETFROM:+0200
TZOFFSETTO:+0100
TZNAME:CET
DTSTART:20251026T010000
END:STANDARD
END:VTIMEZONE
BEGIN:VEVENT
DTSTART;TZID=Europe/Berlin:20241115T093000
DTEND;TZID=Europe/Berlin:20241115T103000
DTSTAMP:20260423T034221
CREATED:20240207T144747Z
LAST-MODIFIED:20240207T144747Z
UID:3183-1731663000-1731666600@frlm-mv.de
SUMMARY:BILDERBUCHKINO
DESCRIPTION:BilderbuchKino zum Bundesweiten Vorlesetag (15.11.24)  – um Voranmeldung wird gebeten (039954-22194). Für Kinder ab 4 bis 7 Jahren. \nWeitere Termine sind möglich!
URL:https://frlm-mv.de/event/bilderbuchkino-3/
LOCATION:Stadtbibliothek Stavenhagen\, Malchiner Straße 26\, Stavenhagen\, 17153\, Deutschland
CATEGORIES:Film & Kino,Kinder,Lesung
ATTACH;FMTTYPE=image/jpeg:https://frlm-mv.de/wp-content/uploads/2024/02/Bilderbuchkino.jpg
END:VEVENT
BEGIN:VEVENT
DTSTART;TZID=Europe/Berlin:20241115T140000
DTEND;TZID=Europe/Berlin:20241115T150000
DTSTAMP:20260423T034221
CREATED:20240207T145012Z
LAST-MODIFIED:20240207T145012Z
UID:3185-1731679200-1731682800@frlm-mv.de
SUMMARY:BILDERBUCHKINO
DESCRIPTION:BilderbuchKino zum Bundesweiten Vorlesetag (15.11.24)  – um Voranmeldung wird gebeten (039954-22194). Für Kinder ab 4 bis 7 Jahren. \nWeitere Termine sind möglich!
URL:https://frlm-mv.de/event/bilderbuchkino-4/
LOCATION:Stadtbibliothek Stavenhagen\, Malchiner Straße 26\, Stavenhagen\, 17153\, Deutschland
CATEGORIES:Film & Kino,Kinder,Lesung
ATTACH;FMTTYPE=image/jpeg:https://frlm-mv.de/wp-content/uploads/2024/02/Bilderbuchkino.jpg
END:VEVENT
END:VCALENDAR