BEGIN:VCALENDAR
VERSION:2.0
PRODID:-//Fritz-Reuter-Literaturmuseum - ECPv6.15.20//NONSGML v1.0//EN
CALSCALE:GREGORIAN
METHOD:PUBLISH
X-ORIGINAL-URL:https://frlm-mv.de
X-WR-CALDESC:Veranstaltungen für Fritz-Reuter-Literaturmuseum
REFRESH-INTERVAL;VALUE=DURATION:PT1H
X-Robots-Tag:noindex
X-PUBLISHED-TTL:PT1H
BEGIN:VTIMEZONE
TZID:Europe/Berlin
BEGIN:DAYLIGHT
TZOFFSETFROM:+0100
TZOFFSETTO:+0200
TZNAME:CEST
DTSTART:20230326T010000
END:DAYLIGHT
BEGIN:STANDARD
TZOFFSETFROM:+0200
TZOFFSETTO:+0100
TZNAME:CET
DTSTART:20231029T010000
END:STANDARD
BEGIN:DAYLIGHT
TZOFFSETFROM:+0100
TZOFFSETTO:+0200
TZNAME:CEST
DTSTART:20240331T010000
END:DAYLIGHT
BEGIN:STANDARD
TZOFFSETFROM:+0200
TZOFFSETTO:+0100
TZNAME:CET
DTSTART:20241027T010000
END:STANDARD
BEGIN:DAYLIGHT
TZOFFSETFROM:+0100
TZOFFSETTO:+0200
TZNAME:CEST
DTSTART:20250330T010000
END:DAYLIGHT
BEGIN:STANDARD
TZOFFSETFROM:+0200
TZOFFSETTO:+0100
TZNAME:CET
DTSTART:20251026T010000
END:STANDARD
END:VTIMEZONE
BEGIN:VEVENT
DTSTART;TZID=Europe/Berlin:20240514T140000
DTEND;TZID=Europe/Berlin:20240514T150000
DTSTAMP:20260423T133822
CREATED:20240413T111530Z
LAST-MODIFIED:20240413T112133Z
UID:4437-1715695200-1715698800@frlm-mv.de
SUMMARY:KÄPT`N KNITTERBORT UN SIEN BANDE
DESCRIPTION:Ein Überseeabenteuer für Landratten ab 5 Jahren \n»Kann ein Pirat ok ein Pirat sien\, wenn he kein Schipp owerföllt?« \nKäpt´n Knitterbort und seine Bande sind der Schrecken der Weltmeere. Wenn ihr Schiff am Horizont erscheint\, schlottern alle ehrlichen Seeleute vor Angst wie Wackelpudding. Doch dann gerät ihm die kleine Molly in die Fänge und die tanzt ihm gehörig auf der Nase rum. \nDas spannende Überseeabenteuer erzählt von einem unerschrockenen Mädchen und stellt gängige Rollenbilder auf den Kopf – denn wer sagt\, dass der gefürchtetste Seeräuber aller Zeiten ein Mann sein muss? \nEine fantasievolle Piratengeschichte für alle Landratten ab 5 Jahren nach dem bekannten Bilderbuch von Cornelia Funke und Kerstin Meyer\, für die Bühne bearbeitet von Stefan Dehler\, Niederdeutsch von Katharina Mahnke. Mit Ida-Maria Brandt und Simon Grundbacher von der Fritz-Reuter-Bühne Schwerin. \nDie Veranstaltung findet am 14. Mai um 14 Uhr im Fritz-Reuter-Literaturmuseum statt. Um Voranmeldung wird gebeten (Telefon 039954 21072 oder E-Mail an literaturmuseum@stavenhagen.de).
URL:https://frlm-mv.de/event/kaeptn-knitterbort-un-sien-bande/
LOCATION:Fritz-Reuter-Literaturmuseum Stavenhagen\, Markt 1\, 17153 Stavenhagen\, Mecklenburg-Vorpommern\, Deutschland
CATEGORIES:Kinder,Literatur,Niederdeutscher Abend - Allens up Platt
ATTACH;FMTTYPE=image/jpeg:https://frlm-mv.de/wp-content/uploads/2024/04/Knitterbort.jpg
ORGANIZER;CN="Fritz-Reuter-Literaturmuseum Stavenhagen":MAILTO:info@frlm-mv.de
END:VEVENT
END:VCALENDAR