BEGIN:VCALENDAR
VERSION:2.0
PRODID:-//Fritz-Reuter-Literaturmuseum - ECPv6.15.20//NONSGML v1.0//EN
CALSCALE:GREGORIAN
METHOD:PUBLISH
X-WR-CALNAME:Fritz-Reuter-Literaturmuseum
X-ORIGINAL-URL:https://frlm-mv.de
X-WR-CALDESC:Veranstaltungen für Fritz-Reuter-Literaturmuseum
REFRESH-INTERVAL;VALUE=DURATION:PT1H
X-Robots-Tag:noindex
X-PUBLISHED-TTL:PT1H
BEGIN:VTIMEZONE
TZID:Europe/Berlin
BEGIN:DAYLIGHT
TZOFFSETFROM:+0100
TZOFFSETTO:+0200
TZNAME:CEST
DTSTART:20230326T010000
END:DAYLIGHT
BEGIN:STANDARD
TZOFFSETFROM:+0200
TZOFFSETTO:+0100
TZNAME:CET
DTSTART:20231029T010000
END:STANDARD
BEGIN:DAYLIGHT
TZOFFSETFROM:+0100
TZOFFSETTO:+0200
TZNAME:CEST
DTSTART:20240331T010000
END:DAYLIGHT
BEGIN:STANDARD
TZOFFSETFROM:+0200
TZOFFSETTO:+0100
TZNAME:CET
DTSTART:20241027T010000
END:STANDARD
BEGIN:DAYLIGHT
TZOFFSETFROM:+0100
TZOFFSETTO:+0200
TZNAME:CEST
DTSTART:20250330T010000
END:DAYLIGHT
BEGIN:STANDARD
TZOFFSETFROM:+0200
TZOFFSETTO:+0100
TZNAME:CET
DTSTART:20251026T010000
END:STANDARD
END:VTIMEZONE
BEGIN:VEVENT
DTSTART;TZID=Europe/Berlin:20240519T113000
DTEND;TZID=Europe/Berlin:20240519T143000
DTSTAMP:20260423T121119
CREATED:20240228T102508Z
LAST-MODIFIED:20240510T112237Z
UID:3439-1716118200-1716129000@frlm-mv.de
SUMMARY:Museen mit Freude entdecken
DESCRIPTION:„Museen mit Freude entdecken“ \nAm 19. Mai 2024 wird der Internationale Museumstag gefeiert!  \nDer Internationale Museumstag findet im Jahr 2024 bereits zum 47. Mal statt. Er wird jährlich vom Internationalen Museumsrat ICOM für den 18. Mai ausgerufen und in Deutschland an einem nahegelegenen Sonntag zelebriert. Ziel des Museumstages ist es\, auf die Museen in Deutschland und weltweit aufmerksam zu machen und Besucher:innen einzuladen\, die Vielfalt der Museen zu entdecken. Museen können sich mit geplanten analogen Angeboten am Aktionstag oder auch mit schon jetzt nutzbaren digitalen Angeboten auf der bundesweiten Plattform präsentieren. \nDie Bundesratspräsidentin Manuela Schwesig lädt nationale und internationale Gäste in die Reuterstadt Stavenhagen. Sie goutiert damit zugleich die überregional anerkannte Arbeit des Fritz-Reuter-Literaturmuseums\, das in diesem Jahr sein 75. Jubiläum feiert und würdigt den großen mecklenburgischen Schriftsteller Fritz Reuter\, dessen Todestag sich am 12. Juli zum 150. Mal jährt. \nKeynote: \nProf. Dr. Julia Binder\, Brandenburgische Technische Universität Cottbus-Senftenberg: \n„Wirkungsvolles Engagement in kommunalen Museen – Museen als Akteure für nachhaltige Stadtzukünfte“ \nOrt: Schloß Stavenhagen\, Schloß 1\, 17153 Stavenhagen \nIm Anschluss: \nMarkt der Möglichkeiten \nMuseen sind Orte der Begegnung\, der Kommunikation und des Miteinanders. Und so präsentiert sich die Reuterstadt Stavenhagen an diesem besonderen Tag ihren Bürgerinnen und Bürgern mit einem Markt der Möglichkeiten. Wir laden zum Bürgerfest. Aussteller\, Partner\, Künstler\, Schüler und Freunde des Fritz-Reuter-Literaturmuseums präsentieren sich auf dem Hof des Schlosses in Stavenhagen einer interessierten Öffentlichkeit. Für jeden ist etwas dabei. Es präsentieren sich Schülerinnen und Schüler des Reuterstädter Schulcampus\, das Trio artpassion aus Schwerin gibt sich die Ehre\, Jan Tessin aus Malchin sorgt für gute Unterhaltung und Clown TomTom aus Dresden\, die AWO und Irene Murawski geben alles für junge und junggebliebene Gäste. Auch die Niederdeutschbotschafterin der Landesregierung\, das DIZ Neubrandenburg\, RUN\, der Nordkurier\, die Darguner Brauerei\, das Landesmarketing\, museum.de und viele weitere Freunde der Kultur präsentieren sich gern. \nDas Fritz-Reuter-Literaturmuseum freut sich auf viele Gäste und lädt zudem zum Besuch in sein Haus am Markt 1 in Stavenhagen. Der Eintritt ist selbstverständlich frei. Darüber hinaus werden kostenfreie Führungen durch das Literaturmuseum und die Reuterstadt angeboten. \nOder kurz gesagt: Es ist Zeit zu feiern! Es wird wunderschön! \nOrt: Schloß Stavenhagen\, Schloß 1\, 17153 Stavenhagen \nDarüber hinaus: \nab 12.00 Uhr Führungen durch das Fritz-Reuter-Literaturmuseum & thematische Führungen durch die Reuterstadt \nEs wird wunderschön! \n  \n 
URL:https://frlm-mv.de/event/festakt-der-bundesratspraesidentin-zum-internationalen-museumstag/
LOCATION:Schloss Stavenhagen\, Schloss 1\, Stavenhagen\, 17153\, Deutschland
CATEGORIES:Festveranstaltung
ATTACH;FMTTYPE=image/jpeg:https://frlm-mv.de/wp-content/uploads/2024/02/IMT.jpg
ORGANIZER;CN="Fritz-Reuter-Literaturmuseum Stavenhagen":MAILTO:info@frlm-mv.de
END:VEVENT
END:VCALENDAR